BEGIN:VCALENDAR
VERSION:2.0
PRODID:-//Kultur-Gut Theater Mittelrhein - ECPv6.15.20//NONSGML v1.0//EN
CALSCALE:GREGORIAN
METHOD:PUBLISH
X-WR-CALNAME:Kultur-Gut Theater Mittelrhein
X-ORIGINAL-URL:https://theater-mittelrhein.de
X-WR-CALDESC:Veranstaltungen für Kultur-Gut Theater Mittelrhein
REFRESH-INTERVAL;VALUE=DURATION:PT1H
X-Robots-Tag:noindex
X-PUBLISHED-TTL:PT1H
BEGIN:VTIMEZONE
TZID:Europe/Berlin
BEGIN:DAYLIGHT
TZOFFSETFROM:+0100
TZOFFSETTO:+0200
TZNAME:CEST
DTSTART:20250330T010000
END:DAYLIGHT
BEGIN:STANDARD
TZOFFSETFROM:+0200
TZOFFSETTO:+0100
TZNAME:CET
DTSTART:20251026T010000
END:STANDARD
BEGIN:DAYLIGHT
TZOFFSETFROM:+0100
TZOFFSETTO:+0200
TZNAME:CEST
DTSTART:20260329T010000
END:DAYLIGHT
BEGIN:STANDARD
TZOFFSETFROM:+0200
TZOFFSETTO:+0100
TZNAME:CET
DTSTART:20261025T010000
END:STANDARD
BEGIN:DAYLIGHT
TZOFFSETFROM:+0100
TZOFFSETTO:+0200
TZNAME:CEST
DTSTART:20270328T010000
END:DAYLIGHT
BEGIN:STANDARD
TZOFFSETFROM:+0200
TZOFFSETTO:+0100
TZNAME:CET
DTSTART:20271031T010000
END:STANDARD
END:VTIMEZONE
BEGIN:VEVENT
DTSTART;TZID=Europe/Berlin:20260424T190000
DTEND;TZID=Europe/Berlin:20260424T220000
DTSTAMP:20260424T013230
CREATED:20260225T125253Z
LAST-MODIFIED:20260410T144919Z
UID:892-1777057200-1777068000@theater-mittelrhein.de
SUMMARY:Musik zur Kneipenzeit: X-Dream
DESCRIPTION:Die Koblenzer Jazzformation X-dream präsentiert sowohl bekannte Hits aus Jazz\, Rock\, Funk und Fusion als auch eigene Kompositionen mit zeitgemäßer Frische. Durch klare Melodienführung\, kombiniert mit groovenden Improvisationen und Soli – manchmal auch einem deutschen Text – steht so am Ende immer eine „eigene“ Version des Stücks.\nDie Band spielt seit den 80er Jahren in unterschiedlichen Besetzungen und hat 2 Studio CDs produziert.\nAber nur Live lässt sich die mitreißende Spielfreude der Band hautnah erleben.  \nX-dream sind:\nRicarda Batta-Kollias (voc)\nTheo Enders (keys)\nThomas Wölflinger (git & backing voc)\nHaRo Holzer (bass & backing voc)\nUli Krämer (drums/cajon) \nEinlass ab 18 Uhr\, Beginn 19 Uhr\, Eintritt frei\, Spende für die Musiker erwünscht.
URL:https://theater-mittelrhein.de/event/musik-zur-kneipenzeit-x-dream-3/
LOCATION:Theater Mittelrhein im Kultur-Gut\, Hauptstrasse 78\, 56182 Urbar\, Deutschland
ATTACH;FMTTYPE=image/jpeg:https://theater-mittelrhein.de/wp-content/uploads/2026/02/IMG_2744-aktuell-scaled.jpeg
END:VEVENT
END:VCALENDAR